BEGIN:VCALENDAR
VERSION:2.0
PRODID:-//welante.ch////DE 19.04.2026 19:11
METHOD:PUBLISH
BEGIN:VTIMEZONE
TZID:Europe/Zurich
X-LIC-LOCATION:Europe/Zurich
BEGIN:STANDARD
DTSTART:16011028T030000
RRULE:FREQ=YEARLY;BYDAY=-1SU;BYMONTH=10
TZOFFSETFROM:+0200
TZOFFSETTO:+0100
END:STANDARD
BEGIN:DAYLIGHT
DTSTART:16010325T020000
RRULE:FREQ=YEARLY;BYDAY=-1SU;BYMONTH=3
TZOFFSETFROM:+0100
TZOFFSETTO:+0200
END:DAYLIGHT
END:VTIMEZONE
BEGIN:VEVENT
CLASS:PUBLIC
UID:ca38d4f0a2e89adca51174f85c2b0b3b
DTSTAMP:20251212T140522Z
DTSTART;TZID=Europe/Zurich:20260105T190000
DTEND;TZID=Europe/Zurich:20260105T200000
LOCATION:Collège du Fey
DESCRIPTION:Mit: Brandt Nadia\n\nTermine:\n05.01.2026 19:00\n12.01.2026 19:00\n19.01.2026 19:00\n26.01.2026 19:00\n02.02.2026 19:00\n09.02.2026 19:00\n23.02.2026 19:00\n02.03.2026 19:00\n09.03.2026 19:00\n16.03.2026 19:00
URL;VALUE=URI:
SUMMARY:2526-M-504-2 
LAST-MODIFIED:20251219T103203Z
RRULE:FREQ=WEEKLY;UNTIL=20260316T190000Z;WKST=SU;BYDAY=MO
EXDATE;TZID=Europe/Zurich:20260216T180000Z
END:VEVENT
END:VCALENDAR